BEGIN:VCALENDAR
VERSION:2.0
PRODID:-//ChamberMaster//Event Calendar 2.0//EN
METHOD:PUBLISH
X-PUBLISHED-TTL:P3D
REFRESH-INTERVAL:P3D
CALSCALE:GREGORIAN
BEGIN:VEVENT
DTSTART:20190318T163000Z
DTEND:20190322T190000Z
X-MICROSOFT-CDO-ALLDAYEVENT:FALSE
SUMMARY:Mechanical Marvels at the Science Mill
DESCRIPTION:Join the Science Mill during spring break for hands-on family fun! Special Mechanical Marvels stations will include guiding mBot robots through an obstacle course\, controlling K'nex machines with joysticks\, and inventing and coding your own K'Nex creations. Plus\, see the Science Mill's new 1\,000-square-foot Aquaponics Greenhouse\, explore 50+ hands-on exhibits and see a 3D movie! Mechanical Marvels activities will take place between 11:30am-2pm March 12-15 and March 19-22. Check the museum website for extended hours during spring break. Contact: info@sciencemill.org Phone: 844-263-6405 Admission: 0-2 years old   free\, 3-18 (or with student ID) $9.50\, Adults $11\, Seniors (65+) $9 and Military $5.50 Location: 101 S. Lady Bird Lane Johnson City\, Texas 78636 Event Website: https://www.sciencemill.org/upcoming-events-1/
X-ALT-DESC;FMTTYPE=text/html:Join the Science Mill during spring break for hands-on family fun! Special Mechanical Marvels stations will include guiding mBot robots through an obstacle course\, controlling K&rsquo\;nex machines with joysticks\, and inventing and coding your own K&rsquo\;Nex creations. Plus\, see the Science Mill&rsquo\;s new 1\,000-square-foot Aquaponics Greenhouse\, explore 50+ hands-on exhibits and see a 3D movie! Mechanical Marvels activities will take place between 11:30am-2pm March 12-15 and March 19-22. Check the museum website for extended hours during spring break. Contact: info@sciencemill.org Phone: 844-263-6405 Admission: 0-2 years old &ndash\; free\, 3-18 (or with student ID) $9.50\, Adults $11\, Seniors (65+) $9 and Military $5.50 Location: 101 S. Lady Bird Lane Johnson City\, Texas 78636 Event Website: https://www.sciencemill.org/upcoming-events-1/
LOCATION:Science Mill 101 S. Lady Bird Lane Johnson City\, TX 78636
UID:e.2123.9844
SEQUENCE:3
DTSTAMP:20260422T091147Z
URL:https://laketravischamberfest.com/events/details/mechanical-marvels-at-the-science-mill-9844
END:VEVENT

END:VCALENDAR
