BEGIN:VCALENDAR
VERSION:2.0
PRODID:-//ChamberMaster//Event Calendar 2.0//EN
METHOD:PUBLISH
X-PUBLISHED-TTL:P3D
REFRESH-INTERVAL:P3D
CALSCALE:GREGORIAN
BEGIN:VEVENT
DTSTART:20210814T140000Z
DTEND:20210814T180000Z
X-MICROSOFT-CDO-ALLDAYEVENT:FALSE
SUMMARY:Matilda Jr. Auditions August 14th!
DESCRIPTION:TexARTS Musical Theater Academy Presents: Matilda\, Jr. Rebellion is nigh in Matilda JR.\, a gleefully witty ode to the the anarchy of childhood and the power of imagination! This story of a girl who dreams of a better life and the children she inspires will have audiences rooting for the "revolting children" who are out to teach the grown-ups a lesson. Matilda has astonishing wit\, intelligence... and special powers! She's unloved by her cruel parents but impresses her schoolteacher\, the highly loveable Miss Honey. Matilda's school life isn't completely smooth sailing\, however   the school's mean headmistress\, Miss Trunchbull\, hates children and just loves thinking up new punishments for those who don't abide by her rules. But Matilda has courage and cleverness in equal amounts\, and could be the school pupils' saving grace! Packed with high-energy dance numbers and catchy songs\, Matilda JR. is a joyous girl power romp. Children and adults alike will be thrilled and delighted by the story of the special little girl with an extraordinary imagination. Performances will be live and in the TexARTS Kam & James Morris Theater. Ages 7-16\, students will be cast and grouped by age.   For more info and registration visit tex-arts.org\, email academy@tex-arts.org\, or call us at 512-852-9079x104
X-ALT-DESC;FMTTYPE=text/html:TexARTS Musical Theater Academy Presents: Matilda\, Jr. Rebellion is nigh in&nbsp\;Matilda JR.\, a gleefully witty ode to the&nbsp\;the anarchy of childhood and the power of imagination!&nbsp\;This&nbsp\;story of a girl who dreams of a better life and the children she inspires will have audiences rooting for the &quot\;revolting children&quot\; who are out to teach the grown-ups a lesson. Matilda has&nbsp\;astonishing wit\, intelligence... and special powers!&nbsp\;She&#39\;s unloved by her cruel parents but impresses her schoolteacher\, the highly loveable Miss Honey. Matilda&#39\;s school life isn&#39\;t completely smooth sailing\, however &ndash\; the school&#39\;s mean headmistress\, Miss Trunchbull\, hates children and just loves thinking up new punishments for those who don&#39\;t abide by her rules. But Matilda has courage and cleverness in equal amounts\, and could be the school pupils&#39\; saving grace! Packed with high-energy dance numbers and&nbsp\;catchy songs\,&nbsp\;Matilda JR.&nbsp\;is a joyous girl power romp. Children and adults alike will be thrilled and delighted by the story of the special little girl with an extraordinary imagination. Performances will be live and in the TexARTS Kam &amp\; James Morris Theater. Ages 7-16\, students will be cast and grouped by age.&nbsp\;&nbsp\; For more info and registration visit tex-arts.org\, email academy@tex-arts.org\, or call us at 512-852-9079x104
LOCATION:TexARTS Association 2300 Lohman's Spur STE 160 Austin\, TX 78734
UID:e.2123.10911
SEQUENCE:3
DTSTAMP:20260424T053551Z
URL:https://laketravischamberfest.com/events/details/matilda-jr-auditions-august-14th-10911
END:VEVENT

END:VCALENDAR
