BEGIN:VCALENDAR
VERSION:2.0
PRODID:-//ChamberMaster//Event Calendar 2.0//EN
METHOD:PUBLISH
X-PUBLISHED-TTL:P3D
REFRESH-INTERVAL:P3D
CALSCALE:GREGORIAN
BEGIN:VEVENT
DTSTART:20191221T160000Z
DTEND:20191221T220000Z
X-MICROSOFT-CDO-ALLDAYEVENT:FALSE
SUMMARY:Masters of Disguise at the Science Mill
DESCRIPTION:Dec. 21 Masters of Disguise Exhibit Opening at the Science Mill Meet the Masters of Disguise at the Science Mill! That is\, if you can find them: Did that clump of moss just blink? Does that twig have antennae? Take a closer look to discover ways that animals blend in\, stand out\, confuse the eye\, or hide in plain sight. Alongside live specimens\, try these tricks yourself by playing as predator or prey in a variety of digital games. See how designers\, engineers and inventors have taken inspiration from nature's masters of disguise   how will they inspire you? Don't miss the grand opening Saturday Dec. 21! This living\, ever-changing exhibit will only be at the Science Mill for a limited time\, so visit soon. Contact: info@sciencemill.org Location: Science Mill\, 101 S. Lady Bird Lane\, Johnson City\, Texas 78636 Admission: 0-2 years old   free\, 3-18 (or with student ID) $9.50\, Adults $11\, Seniors (65+) $9 and Military $5.50 Museum Hours: Sat.\, 10am-4pm\; Sun. 12pm-4pm Event Website: https://www.sciencemill.org/upcoming-events-1/
X-ALT-DESC;FMTTYPE=text/html:Dec. 21 Masters of Disguise Exhibit Opening at the Science Mill Meet the Masters of Disguise at the Science Mill! That is\, if you can find them: Did that clump of moss just blink? Does that twig have antennae? Take a closer look to discover ways that animals blend in\, stand out\, confuse the eye\, or hide in plain sight. Alongside live specimens\, try these tricks yourself by playing as predator or prey in a variety of digital games. See how designers\, engineers and inventors have taken inspiration from nature&rsquo\;s masters of disguise &ndash\; how will they inspire you? Don&#39\;t miss the grand opening Saturday Dec. 21! This living\, ever-changing exhibit will only be at the Science Mill for a limited time\, so visit soon. Contact: info@sciencemill.org Location: Science Mill\, 101 S. Lady Bird Lane\, Johnson City\, Texas 78636 Admission: 0-2 years old &ndash\; free\, 3-18 (or with student ID) $9.50\, Adults $11\, Seniors (65+) $9 and Military $5.50 Museum Hours: Sat.\, 10am-4pm\; Sun. 12pm-4pm Event Website: https://www.sciencemill.org/upcoming-events-1/
LOCATION:Science Mill 101 S. Lady Bird Lane Johnson City\, TX 78636
UID:e.2123.10041
SEQUENCE:3
DTSTAMP:20260422T225747Z
URL:https://laketravischamberfest.com/events/details/masters-of-disguise-at-the-science-mill-10041
END:VEVENT

END:VCALENDAR
