BEGIN:VCALENDAR
VERSION:2.0
PRODID:-//ChamberMaster//Event Calendar 2.0//EN
METHOD:PUBLISH
X-PUBLISHED-TTL:P3D
REFRESH-INTERVAL:P3D
CALSCALE:GREGORIAN
BEGIN:VEVENT
DTSTART;VALUE=DATE:20230116
DTEND;VALUE=DATE:20230117
TRANSP:TRANSPARENT
X-MICROSOFT-CDO-ALLDAYEVENT:TRUE
SUMMARY:Martin Luthur King Jr.Day
DESCRIPTION:Chamber Offices Closed
X-ALT-DESC;FMTTYPE=text/html:<span style="caret-color: rgb(34\, 34\, 34)\; color: rgb(34\, 34\, 34)\; font-family: Arial\, Helvetica\, sans-serif\; font-size: small\;">Chamber Offices Closed</span>
LOCATION:
UID:e.2123.11691
SEQUENCE:3
DTSTAMP:20260423T113152Z
URL:https://laketravischamberfest.com/events/details/martin-luthur-king-jr-day-11691
END:VEVENT

END:VCALENDAR
