BEGIN:VCALENDAR
VERSION:2.0
PRODID:-//ChamberMaster//Event Calendar 2.0//EN
METHOD:PUBLISH
X-PUBLISHED-TTL:P3D
REFRESH-INTERVAL:P3D
CALSCALE:GREGORIAN
BEGIN:VEVENT
DTSTART:20190305T230000Z
DTEND:20190306T020000Z
X-MICROSOFT-CDO-ALLDAYEVENT:FALSE
SUMMARY:Mardi Gras with QPS: Beads\, Bubbly and Bites
DESCRIPTION:Mardi Gras is right around the corner\, what better way to celebrate than with a night of bubbles provided by the Bubble Tap Trailer along with some great cajun food bites. QPS Mardi Gras is hosted by Quintessence Plastic Surgery on March 5\, from 5-8:00 p.m. at the Quintessence Plastic Surgery office in Austin\, Texas. Dr. Aisha White was born and raised in New Orleans\, La.\, where she embraced the culture of Mardi Gras. Now that she lives in Austin\, Texas\, she wants to continue sharing Mardi Gras with her community! Bring your friends\, guys and girls and join us this Fat Tuesday for beads\, bubbles and bites!
X-ALT-DESC;FMTTYPE=text/html:Mardi Gras is right around the corner\, what better way to celebrate than with a night of bubbles provided by the Bubble Tap Trailer along with some great cajun food bites. QPS Mardi Gras is hosted by Quintessence Plastic Surgery on March 5\, from 5-8:00 p.m. at the Quintessence Plastic Surgery office in Austin\, Texas. Dr. Aisha White was born and raised in New Orleans\, La.\, where she embraced the culture of Mardi Gras. Now that she lives in Austin\, Texas\, she wants to continue sharing Mardi Gras with her community! Bring your friends\, guys and girls and join us this Fat Tuesday for beads\, bubbles and bites!
LOCATION:6611 River Place Blvd\, Suite 201\, Austin\, Texas 78730
UID:e.2123.9841
SEQUENCE:3
DTSTAMP:20260422T091603Z
URL:https://laketravischamberfest.com/events/details/mardi-gras-with-qps-beads-bubbly-and-bites-9841
END:VEVENT

END:VCALENDAR
