BEGIN:VCALENDAR
VERSION:2.0
PRODID:-//ChamberMaster//Event Calendar 2.0//EN
METHOD:PUBLISH
X-PUBLISHED-TTL:P3D
REFRESH-INTERVAL:P3D
CALSCALE:GREGORIAN
BEGIN:VEVENT
DTSTART:20220331T220000Z
DTEND:20220401T000000Z
X-MICROSOFT-CDO-ALLDAYEVENT:FALSE
SUMMARY:March Madness After Business Happy Hour
DESCRIPTION:This March After Business Happy Hour is one you wont want to miss! If you aren't a member yet\, please join us and if you are\, be sure to bring your colleagues and other business leaders that aren't yet members because Lakeway Resort and Spa is our Prize Sponsor this month!\n\n\n\nWe are grateful for our friend Andrew at Craigo's for graciously providing the venue and and for Rachele at Planet Rock Vodka for being our drink sponsor!
X-ALT-DESC;FMTTYPE=text/html:This March After Business Happy Hour is one you wont want to miss! If you aren&#39\;t a member yet\, please join us and if you are\, be sure to bring your colleagues and other business leaders that aren&#39\;t yet members because Lakeway Resort and Spa is our Prize Sponsor this month!<br />\n<br />\nWe are grateful for our friend Andrew at Craigo&#39\;s for graciously providing the venue and and for Rachele at Planet Rock Vodka for being our drink sponsor!&nbsp\;
LOCATION:2501 Ranch Rd. 620 S.\, Lakeway\, TX 78734
UID:e.2123.11083
SEQUENCE:3
DTSTAMP:20260424T015309Z
URL:https://laketravischamberfest.com/events/details/march-madness-after-business-happy-hour-11083
END:VEVENT

END:VCALENDAR
