BEGIN:VCALENDAR
VERSION:2.0
PRODID:-//ChamberMaster//Event Calendar 2.0//EN
METHOD:PUBLISH
X-PUBLISHED-TTL:P3D
REFRESH-INTERVAL:P3D
CALSCALE:GREGORIAN
BEGIN:VEVENT
DTSTART:20200309T153000Z
DTEND:20200309T163000Z
X-MICROSOFT-CDO-ALLDAYEVENT:FALSE
SUMMARY:Managing Balance to Prevent Falls
DESCRIPTION:Managing Balance to Prevent Falls - Monday\, March 9th at 10:30am - Lake Travis Senior Services will host a panel of experts to help you learn how to prevent falls and improve balance and posture. The panel will include Barker Keith\, Lakeway Aquatic Physical Therapy\, Deepak Suthar\, OsteoStrongATX\, and Linda Cooper\, Owner AmeriCare Bee Cave\, Yoga Instructor.
X-ALT-DESC;FMTTYPE=text/html:Managing Balance to Prevent Falls - Monday\, March 9th at 10:30am - Lake Travis Senior Services will host a panel of experts to help you learn how to prevent falls and improve balance and posture. The panel will include Barker Keith\, Lakeway Aquatic Physical Therapy\, Deepak Suthar\, OsteoStrongATX\, and Linda Cooper\, Owner AmeriCare Bee Cave\, Yoga Instructor.
LOCATION:Lake Travis Community Library 1938 Lohmans Crossing Austin\, Texas 78734
UID:e.2123.10087
SEQUENCE:3
DTSTAMP:20260423T030259Z
URL:https://laketravischamberfest.com/events/details/managing-balance-to-prevent-falls-10087
END:VEVENT

END:VCALENDAR
