BEGIN:VCALENDAR
VERSION:2.0
PRODID:-//ChamberMaster//Event Calendar 2.0//EN
METHOD:PUBLISH
X-PUBLISHED-TTL:P3D
REFRESH-INTERVAL:P3D
CALSCALE:GREGORIAN
BEGIN:VEVENT
DTSTART:20230422T190000Z
DTEND:20230501T010000Z
X-MICROSOFT-CDO-ALLDAYEVENT:FALSE
SUMMARY:Madagascar Jr.
DESCRIPTION:Join Alex the Lion\, Marty the Zebra\, Melman the Giraffe\, Gloria the hip hip Hippo and\, of course\, those hilarious\, plotting penguins as they bound onto your stage in the musical adventure of a lifetime. Based on the smash DreamWorks animated motion picture\, Madagascar   A Musical Adventure JR. follows all of your favorite crack-a-lackin' friends as they escape from their home in New York's Central Park Zoo and find themselves on an unexpected journey to the madcap world of King Julien's Madagascar. Performances will be live and in the TexARTS Kam & James Morris Theater. April 22\, 23\, 29\, & 30 at 2:00pm and 6:00pm
X-ALT-DESC;FMTTYPE=text/html:Join Alex the Lion\, Marty the Zebra\, Melman the Giraffe\, Gloria the hip hip Hippo and\, of course\, those hilarious\, plotting penguins as they bound onto your stage in the musical adventure of a lifetime. Based on the smash DreamWorks animated motion picture\, Madagascar &ndash\; A Musical Adventure JR. follows all of your favorite crack-a-lackin&rsquo\; friends as they escape from their home in New York&rsquo\;s Central Park Zoo and find themselves on an unexpected journey to the madcap world of King Julien&rsquo\;s Madagascar. Performances will be live and in the TexARTS Kam &amp\; James Morris Theater. April 22\, 23\, 29\, &amp\; 30 at 2:00pm and 6:00pm
LOCATION:TexARTS Association
UID:e.2123.11720
SEQUENCE:3
DTSTAMP:20260423T065839Z
URL:https://laketravischamberfest.com/events/details/madagascar-jr-11720
END:VEVENT

END:VCALENDAR
