BEGIN:VCALENDAR
VERSION:2.0
PRODID:-//ChamberMaster//Event Calendar 2.0//EN
METHOD:PUBLISH
X-PUBLISHED-TTL:P3D
REFRESH-INTERVAL:P3D
CALSCALE:GREGORIAN
BEGIN:VEVENT
DTSTART:20220119T170000Z
DTEND:20220119T190000Z
X-MICROSOFT-CDO-ALLDAYEVENT:FALSE
SUMMARY:LTCC January Luncheon- Lake Travis Economic Forecast
DESCRIPTION:The annual Lake Travis Economic Forecast provides attendees with first-hand information about growth and development in the South Lake Travis area. Hear from city officials and area real estate experts about what to expect in 2022. \n\n \n\nOur Speakers\n\nTom Kilgore\,  Mayor\, City of Lakeway\n\nKara King\, Mayor\, City of Bee Cave\n\nApril Womack\, Realtor\, Moreland Properties\n\nBarry Moratz\, Marotz Commercial Agency\n\n\n\n\n\n\n \n\n\n\n\n\nRegistration and Networking: 11 AM - 11:45 AM\n\nProgram: Noon - 1:00PM\n\nLocation: Sonesta Bee Cave Austin Hotel\, 12525 Bee Cave Pkwy\, Bee Cave\, TX 78738\n\nPLEASE PRE-PAY BY CREDIT CARD WHEN REGISTERING. WE WILL NOT HAVE THE OPTION TO PAY AT THE EVENT.\n\nTHANK YOU!
X-ALT-DESC;FMTTYPE=text/html:<div style="color: rgb(87\, 87\, 87)\; font-family: Helvetica\, Arial\, sans-serif\; font-size: 18px\; white-space: pre-wrap\; text-align: center\;"><span style="font-size: 16px\; color: rgb(34\, 34\, 34)\;">The annual Lake Travis Economic Forecast provides attendees with first-hand information about growth and development in the South Lake Travis area. Hear from city officials and area real estate experts about what to expect in 2022.&nbsp\;</span></div>\n\n<div style="color: rgb(87\, 87\, 87)\; font-family: Helvetica\, Arial\, sans-serif\; font-size: 18px\; white-space: pre-wrap\; text-align: center\;">&nbsp\;</div>\n\n<div style="color: rgb(87\, 87\, 87)\; font-family: Helvetica\, Arial\, sans-serif\; font-size: 18px\; white-space: pre-wrap\; text-align: center\;"><span style="font-size: 24px\; color: rgb(7\, 151\, 235)\; font-weight: bold\;">Our Speakers</span></div>\n\n<div style="color: rgb(87\, 87\, 87)\; font-family: Helvetica\, Arial\, sans-serif\; font-size: 18px\; white-space: pre-wrap\; text-align: center\;"><span style="font-size: 16px\; color: rgb(51\, 51\, 51)\; font-weight: bold\;">Tom Kilgore</span><span style="font-size: 16px\; color: rgb(51\, 51\, 51)\;">\,&nbsp\;&nbsp\;Mayor\,&nbsp\;</span><span style="font-size:16px\;"><u>City of Lakeway</u></span></div>\n\n<div style="color: rgb(87\, 87\, 87)\; font-family: Helvetica\, Arial\, sans-serif\; font-size: 18px\; white-space: pre-wrap\; text-align: center\;"><span style="font-size: 16px\; color: rgb(51\, 51\, 51)\; font-weight: bold\;">Kara King</span><span style="font-size: 16px\; color: rgb(51\, 51\, 51)\;">\, Mayor\,&nbsp\;</span><span style="font-size:16px\;"><u>City of Bee Cave</u></span></div>\n\n<div style="color: rgb(87\, 87\, 87)\; font-family: Helvetica\, Arial\, sans-serif\; font-size: 18px\; white-space: pre-wrap\; text-align: center\;"><span style="font-size: 16px\; color: rgb(51\, 51\, 51)\; font-weight: bold\;">April Womack</span><span style="font-size: 16px\; color: rgb(51\, 51\, 51)\;">\, Realtor\,&nbsp\;</span><span style="font-size: 16px\; color: rgb(51\, 51\, 51)\; text-decoration-line: underline\;">Moreland Properties</span></div>\n\n<div style="color: rgb(87\, 87\, 87)\; font-family: Helvetica\, Arial\, sans-serif\; font-size: 18px\; white-space: pre-wrap\; text-align: center\;"><span style="font-size: 16px\; color: rgb(51\, 51\, 51)\; font-weight: bold\;">Barry Moratz</span><span style="font-size: 16px\; color: rgb(51\, 51\, 51)\;">\,&nbsp\;</span><span style="font-size: 16px\; color: rgb(51\, 51\, 51)\; text-decoration-line: underline\;">Marotz Commercial Agency</span></div>\n\n<div style="border:none\;border-bottom:solid windowtext 1.0pt\;padding:0in 0in 1.0pt 0in\;">\n<div style="border:none\;border-bottom:solid windowtext 1.0pt\;padding:0in 0in 1.0pt 0in\;">\n<div style="border:none\;border-bottom:solid windowtext 1.0pt\;padding:0in 0in 1.0pt 0in\;">\n<div><br />\n&nbsp\;</div>\n</div>\n</div>\n</div>\n<br />\n<span style="font-size:20px\;"><span style="font-family:arial\;font-size:16px\;"><strong>Registration and Networking: 11 AM - 11:45 AM<br />\n<span style="font-family:arial\;font-size:16px\;">Program: </span>Noon - 1:00PM<br />\nLocation: Sonesta Bee Cave Austin Hotel\,&nbsp\;</strong></span></span><strong><span style="font-family:arial\;"><span style="font-size:16px\;"><span style="color: rgb(32\, 33\, 36)\; background-color: rgb(255\, 255\, 255)\;">12525 Bee Cave Pkwy\, Bee Cave\, TX 78738</span></span></span></strong>\n\n<div century="" font-size:="" style="box-sizing:border-box\;font-family:museo_sans300\, sans-serif\;font-size:16px\;letter-spacing:0.5px\;color:rgb(1\, 0\, 0)\;"><span style="box-sizing:border-box\;font-weight:bold\;"><span style="box-sizing:border-box\;"><span style="color:#f20a21\;"><span style="box-sizing:border-box\;"><span style="font-size:18px\;">PLEASE&nbsp\;</span></span></span></span></span><span style="box-sizing:border-box\;outline:0px\;font-weight:bold\;"><span style="box-sizing:border-box\;outline:0px\;"><span style="color:#f20a21\;"><span style="box-sizing:border-box\;outline:0px\;"><span style="font-size:18px\;">PRE-PAY BY CREDIT CARD WHEN REGISTERING. WE WILL NOT HAVE THE OPTION TO PAY AT THE EVENT</span></span></span></span></span><span style="box-sizing:border-box\;"><span style="color:#f20a21\;"><span style="box-sizing:border-box\;"><span style="font-size:18px\;">.</span></span></span></span></div>\n\n<div century="" font-size:="" style="box-sizing:border-box\;font-family:museo_sans300\, sans-serif\;font-size:16px\;letter-spacing:0.5px\;color:rgb(1\, 0\, 0)\;"><span style="box-sizing:border-box\;font-weight:bold\;"><span style="box-sizing:border-box\;"><span style="color:#f20a21\;"><span style="box-sizing:border-box\;"><span style="font-size:18px\;">THANK YOU!</span></span></span></span></span></div>\n
LOCATION:
UID:e.2123.11061
SEQUENCE:3
DTSTAMP:20260424T043553Z
URL:https://laketravischamberfest.com/events/details/ltcc-january-luncheon-lake-travis-economic-forecast-01-19-2022-11061
END:VEVENT

END:VCALENDAR
