BEGIN:VCALENDAR
VERSION:2.0
PRODID:-//ChamberMaster//Event Calendar 2.0//EN
METHOD:PUBLISH
X-PUBLISHED-TTL:P3D
REFRESH-INTERVAL:P3D
CALSCALE:GREGORIAN
BEGIN:VEVENT
DTSTART:20191218T170000Z
DTEND:20191218T190000Z
X-MICROSOFT-CDO-ALLDAYEVENT:FALSE
SUMMARY:LTCC Holiday Luncheon and Bazaar
DESCRIPTION:Join us for a fun\, relaxed Holiday Luncheon and Bazaar! We'll recognize some of our members with special awards and enjoy a little shopping with local vendors. \n\n\n\nSee you there!\nCurrent Vendors:\n\n\n	Grace & Heart\n	L'BRI Pure 'n Natural\n	Lake Travis Fire Fighters Association (handmade ornaments)\n	Mama Earth Herbal\n	Mirabelle Face Body & Skin\n	ParTeeWine\, Scout & Cellar Independent Consultant\n	ZYIA Active
X-ALT-DESC;FMTTYPE=text/html:Join us for a fun\, relaxed Holiday Luncheon and Bazaar! We&#39\;ll recognize some of our members with special awards and enjoy a little shopping with local vendors.&nbsp\;<br />\n<br />\nSee you there!\n<div align="left" style="color:rgb(126\, 126\, 126)\;font-family:Arial\, Verdana\, Helvetica\, sans-serif\;font-size:14px\;"><span style="font-weight:bold\;font-style:italic\;"><span style="color:#4c4c4c\;">Current Vendors:</span></span></div>\n\n<ul>\n	<li style="padding:0px\;line-height:1.2\;color:rgb(76\, 76\, 76)\;text-align:left\;"><span style="font-style:italic\;">Grace &amp\; Heart</span></li>\n	<li style="padding:0px\;line-height:1.2\;color:rgb(76\, 76\, 76)\;text-align:left\;"><span style="font-style:italic\;">L&#39\;BRI Pure &#39\;n Natural</span></li>\n	<li style="padding:0px\;line-height:1.2\;color:rgb(76\, 76\, 76)\;text-align:left\;"><span style="font-style:italic\;">Lake Travis Fire Fighters Association (handmade ornaments)</span></li>\n	<li style="padding:0px\;line-height:1.2\;color:rgb(76\, 76\, 76)\;text-align:left\;"><span style="font-style:italic\;">Mama Earth Herbal</span></li>\n	<li style="padding:0px\;line-height:1.2\;color:rgb(76\, 76\, 76)\;text-align:left\;"><span style="font-style:italic\;">Mirabelle Face Body &amp\; Skin</span></li>\n	<li style="padding:0px\;line-height:1.2\;color:rgb(76\, 76\, 76)\;text-align:left\;"><span style="font-style:italic\;">ParTeeWine\, Scout &amp\; Cellar Independent Consultant</span></li>\n	<li style="padding:0px\;line-height:1.2\;color:rgb(76\, 76\, 76)\;text-align:left\;"><span style="color: rgb(34\, 34\, 34)\; font-family: Arial\, Helvetica\, sans-serif\; font-size: small\;">ZYIA Active</span></li>\n</ul>\n
LOCATION:High 5\, 1502 RR 620 S\, Lakeway 78734 (in The Oaks)
UID:e.2123.9789
SEQUENCE:3
DTSTAMP:20260422T225446Z
URL:https://laketravischamberfest.com/events/details/ltcc-holiday-luncheon-and-bazaar-9789
END:VEVENT

END:VCALENDAR
