BEGIN:VCALENDAR
VERSION:2.0
PRODID:-//ChamberMaster//Event Calendar 2.0//EN
METHOD:PUBLISH
X-PUBLISHED-TTL:P3D
REFRESH-INTERVAL:P3D
CALSCALE:GREGORIAN
BEGIN:VEVENT
DTSTART:20191204T233000Z
DTEND:20191205T013000Z
X-MICROSOFT-CDO-ALLDAYEVENT:FALSE
SUMMARY:LT Chamber Open House
DESCRIPTION:Chamber Open House. Please register by 11/29.
X-ALT-DESC;FMTTYPE=text/html:Chamber Open House. Please register by 11/29.
LOCATION:Chamber Office 1415 RR 620 So. \, Ste. 202 Lakeway\, 78734
UID:e.2123.9788
SEQUENCE:3
DTSTAMP:20260422T225423Z
URL:https://laketravischamberfest.com/events/details/lt-chamber-open-house-9788
END:VEVENT

END:VCALENDAR
