BEGIN:VCALENDAR
VERSION:2.0
PRODID:-//ChamberMaster//Event Calendar 2.0//EN
METHOD:PUBLISH
X-PUBLISHED-TTL:P3D
REFRESH-INTERVAL:P3D
CALSCALE:GREGORIAN
BEGIN:VEVENT
DTSTART:20221117T200000Z
DTEND:20221117T210000Z
X-MICROSOFT-CDO-ALLDAYEVENT:FALSE
SUMMARY:Live City Update with Mayor Kilgore
DESCRIPTION:Join Mayor Kilgore for the next Facebook Live (facebook.com/cityoflakeway) monthly series this Thursday\, Nov. 17 at 2 p.m. with updates on the latest with City Council and upcoming activities and events in Lakeway. If you prefer not to use Facebook\, you will be able to watch the recorded version at the bottom of their website following the live presentation.\n\n\n\nHave a question you would like addressed? Email them beforehand to info@lakeway-tx.gov.
X-ALT-DESC;FMTTYPE=text/html:<span style="caret-color: rgb(37\, 38\, 39)\; color: rgb(37\, 38\, 39)\; font-family: Montserrat\; font-size: 15.199999809265137px\;">Join Mayor Kilgore for the next Facebook Live (facebook.com/cityoflakeway) monthly series this Thursday\, Nov. 17 at 2 p.m. with updates on the latest with City Council and upcoming activities and events in Lakeway. If you prefer not to use Facebook\, you will be able to watch the recorded version at the bottom of their website following the live presentation.<br />\n<br />\nHave a question you would like addressed? Email them beforehand to&nbsp\;</span><span style="caret-color: rgb(37\, 38\, 39)\; color: rgb(37\, 38\, 39)\; font-family: Montserrat\; font-size: 15.199999809265137px\;">info@lakeway-tx.gov.</span>
LOCATION:
UID:e.2123.11169
SEQUENCE:3
DTSTAMP:20260423T161238Z
URL:https://laketravischamberfest.com/events/details/live-city-update-with-mayor-kilgore-11169
END:VEVENT

END:VCALENDAR
