BEGIN:VCALENDAR
VERSION:2.0
PRODID:-//ChamberMaster//Event Calendar 2.0//EN
METHOD:PUBLISH
X-PUBLISHED-TTL:P3D
REFRESH-INTERVAL:P3D
CALSCALE:GREGORIAN
BEGIN:VEVENT
DTSTART:20200411T160000Z
DTEND:20200411T170000Z
X-MICROSOFT-CDO-ALLDAYEVENT:FALSE
SUMMARY:Little Red Chunari
DESCRIPTION:Little Red Chunari's willpower is put to the test when she journeys through the jungle to visit her grandparents in this South Asian adaptation of the classic Red Riding Hood tale. Kids and grown-ups alike will enjoy Folk and Bollywood-style dance\, puppetry\, and stand-up comedy. Each show will feature live music by Austin's own Sacred Cowgirls with choreography and performances from Devi School of Dance. Austin Scottish Rite Theater is Austin's Oldest and Dearest Theater! Built in 1871\, it remains a hub of arts and community with fine professional theater for young audiences. Children may sit on carpets close to the action while grown-ups relax under ASRT's historic canopy of stars. Austin Scottish Rite Theater is a 501(c)3 non-profit specializing in relevant\, multicultural programming. Visit our website at scottishritetheater.org
X-ALT-DESC;FMTTYPE=text/html:Little Red Chunari&#39\;s willpower is put to the test when she journeys through the jungle to visit her grandparents in this South Asian adaptation of the classic Red Riding Hood tale. Kids and grown-ups alike will enjoy Folk and Bollywood-style dance\, puppetry\, and stand-up comedy. Each show will feature live music by Austin&#39\;s own Sacred Cowgirls with choreography and performances from Devi School of Dance. Austin Scottish Rite Theater is Austin&#39\;s Oldest and Dearest Theater! Built in 1871\, it remains a hub of arts and community with fine professional theater for young audiences. Children may sit on carpets close to the action while grown-ups relax under ASRT&#39\;s historic canopy of stars. Austin Scottish Rite Theater is a 501(c)3 non-profit specializing in relevant\, multicultural programming. Visit our website at scottishritetheater.org
LOCATION:207 W 18th Street\, Austin\, TX 78701
UID:e.2123.10097
SEQUENCE:3
DTSTAMP:20260423T042826Z
URL:https://laketravischamberfest.com/events/details/little-red-chunari-10097
END:VEVENT

END:VCALENDAR
