BEGIN:VCALENDAR
VERSION:2.0
PRODID:-//ChamberMaster//Event Calendar 2.0//EN
METHOD:PUBLISH
X-PUBLISHED-TTL:P3D
REFRESH-INTERVAL:P3D
CALSCALE:GREGORIAN
BEGIN:VEVENT
DTSTART:20190811T183000Z
DTEND:20190811T200000Z
X-MICROSOFT-CDO-ALLDAYEVENT:FALSE
SUMMARY:Linda Buikema Art Reception
DESCRIPTION:Linda Buikema Art Reception - Sunday\, August 11th from 1:30pm to 3pm - Local artist Linda Buikema enjoys creating whimsical paintings of people\, pets\, landscapes\, and objects in bright colors. The community is invited to her wine and cheese reception.
X-ALT-DESC;FMTTYPE=text/html:Linda Buikema Art Reception - Sunday\, August 11th from 1:30pm to 3pm - Local artist Linda Buikema enjoys creating whimsical paintings of people\, pets\, landscapes\, and objects in bright colors. The community is invited to her wine and cheese reception.
LOCATION:Lake Travis Community Library 1938 Lohmans Crossing Austin\, Texas 78734
UID:e.2123.9957
SEQUENCE:3
DTSTAMP:20260422T164718Z
URL:https://laketravischamberfest.com/events/details/linda-buikema-art-reception-9957
END:VEVENT

END:VCALENDAR
