BEGIN:VCALENDAR
VERSION:2.0
PRODID:-//ChamberMaster//Event Calendar 2.0//EN
METHOD:PUBLISH
X-PUBLISHED-TTL:P3D
REFRESH-INTERVAL:P3D
CALSCALE:GREGORIAN
BEGIN:VEVENT
DTSTART:20181123T160000Z
DTEND:20181125T000000Z
X-MICROSOFT-CDO-ALLDAYEVENT:FALSE
SUMMARY:LED CRAFT CORNER
DESCRIPTION:LED Craft Corner Take the whole family to the Science Mill over Thanksgiving weekend for the best and brightest holiday fun! Spend the day checking out 50+ interactive exhibits and a 3D movie while taking advantage of several great holiday shopping opportunities. On Friday and Saturday\, create a special card or gift at the LED Craft Corner ($5 per participant). -On Sunday get big discounts at the museum's Science Store--the largest selection of science-related toys and gifts in the Hill Country--when all purchases of $40 or more will be 25% off! Contact: info@sciencemill.org
X-ALT-DESC;FMTTYPE=text/html:LED Craft Corner Take the whole family to the Science Mill over Thanksgiving weekend for the best and brightest holiday fun! Spend the day checking out 50+ interactive exhibits and a 3D movie while taking advantage of several great holiday shopping opportunities. On Friday and Saturday\, create a special card or gift at the LED Craft Corner ($5 per participant). -On Sunday get big discounts at the museum&rsquo\;s Science Store--the largest selection of science-related toys and gifts in the Hill Country--when all purchases of $40 or more will be 25% off! Contact: info@sciencemill.org
LOCATION:Science Mill 101 Lady Bird Lane Johnson City Tx 78636
UID:e.2123.9772
SEQUENCE:3
DTSTAMP:20260422T024116Z
URL:https://laketravischamberfest.com/events/details/led-craft-corner-9772
END:VEVENT

END:VCALENDAR
