BEGIN:VCALENDAR
VERSION:2.0
PRODID:-//ChamberMaster//Event Calendar 2.0//EN
METHOD:PUBLISH
X-PUBLISHED-TTL:P3D
REFRESH-INTERVAL:P3D
CALSCALE:GREGORIAN
BEGIN:VEVENT
DTSTART:20230209T143000Z
DTEND:20230209T230000Z
X-MICROSOFT-CDO-ALLDAYEVENT:FALSE
SUMMARY:Leadership Lake Travis - Social Service & Non Profit Day
DESCRIPTION:Coming Soon!
X-ALT-DESC;FMTTYPE=text/html:Coming Soon!
LOCATION:
UID:e.2123.11693
SEQUENCE:3
DTSTAMP:20260423T113802Z
URL:https://laketravischamberfest.com/events/details/leadership-lake-travis-social-service-non-profit-day-11693
END:VEVENT

END:VCALENDAR
