BEGIN:VCALENDAR
VERSION:2.0
PRODID:-//ChamberMaster//Event Calendar 2.0//EN
METHOD:PUBLISH
X-PUBLISHED-TTL:P3D
REFRESH-INTERVAL:P3D
CALSCALE:GREGORIAN
BEGIN:VEVENT
DTSTART:20230309T143000Z
DTEND:20230309T230000Z
X-MICROSOFT-CDO-ALLDAYEVENT:FALSE
SUMMARY:Leadership Lake Travis - Public Service & Government
DESCRIPTION:Coming Soon!
X-ALT-DESC;FMTTYPE=text/html:Coming Soon!
LOCATION:
UID:e.2123.11694
SEQUENCE:3
DTSTAMP:20260423T095908Z
URL:https://laketravischamberfest.com/events/details/leadership-lake-travis-public-service-government-11694
END:VEVENT

END:VCALENDAR
