BEGIN:VCALENDAR
VERSION:2.0
PRODID:-//ChamberMaster//Event Calendar 2.0//EN
METHOD:PUBLISH
X-PUBLISHED-TTL:P3D
REFRESH-INTERVAL:P3D
CALSCALE:GREGORIAN
BEGIN:VEVENT
DTSTART;VALUE=DATE:20230511
DTEND;VALUE=DATE:20230512
TRANSP:TRANSPARENT
X-MICROSOFT-CDO-ALLDAYEVENT:TRUE
SUMMARY:Leadership Lake Travis Graduation
DESCRIPTION:Leadership Lake Travis Class of 2023 will host their graduation celebration on May 11\, 2023.  By invitation only.
X-ALT-DESC;FMTTYPE=text/html:<span style="font-family:verdana\;"><span style="font-size:14px\;">Leadership Lake Travis Class of 2023 will host their graduation celebration on May 11\, 2023.&nbsp\; By invitation only.</span></span>
LOCATION:Bee Cave Arts Foundation
UID:e.2123.11727
SEQUENCE:3
DTSTAMP:20260423T053519Z
URL:https://laketravischamberfest.com/events/details/leadership-lake-travis-graduation-11727
END:VEVENT

END:VCALENDAR
