BEGIN:VCALENDAR
VERSION:2.0
PRODID:-//ChamberMaster//Event Calendar 2.0//EN
METHOD:PUBLISH
X-PUBLISHED-TTL:P3D
REFRESH-INTERVAL:P3D
CALSCALE:GREGORIAN
BEGIN:VEVENT
DTSTART:20190116T010000Z
DTEND:20190116T020000Z
X-MICROSOFT-CDO-ALLDAYEVENT:FALSE
SUMMARY:Lakeway’s Founding
DESCRIPTION:Lakeway's origins date back to 1963 when the Lakeway Inn opened and the first homes were built on the shore overlooking Lake Travis. Join the Lakeway Heritage Committee to explore photos and recollections of our community's formative years.
X-ALT-DESC;FMTTYPE=text/html:Lakeway&rsquo\;s origins date back to 1963 when the Lakeway Inn opened and the first homes were built on the shore overlooking Lake Travis. Join the Lakeway Heritage Committee to explore photos and recollections of our community&rsquo\;s formative years.
LOCATION:Lake Travis Community Library 1938 Lohmans Crossing Austin\, Texas 78734
UID:e.2123.9804
SEQUENCE:3
DTSTAMP:20260422T071855Z
URL:https://laketravischamberfest.com/events/details/lakeway-s-founding-9804
END:VEVENT

END:VCALENDAR
