BEGIN:VCALENDAR
VERSION:2.0
PRODID:-//ChamberMaster//Event Calendar 2.0//EN
METHOD:PUBLISH
X-PUBLISHED-TTL:P3D
REFRESH-INTERVAL:P3D
CALSCALE:GREGORIAN
BEGIN:VEVENT
DTSTART:20180401T160000Z
DTEND:20180401T190000Z
X-MICROSOFT-CDO-ALLDAYEVENT:FALSE
SUMMARY:Lakeway Resort and Spa’s Easter Brunch 2018
DESCRIPTION:Easter Brunch at Lakeway Resort and Spa's TR Restaurant Bar and Lounge Serving: breakfast buffet\, made to order omelets\, soups & salads\, carving station\, assorted fruit and vegetable displays\, hot dishes and dessert. All options listed below: https://www.lakewayresortandspa.com/resourcefiles/pdf/tr-easter-menu-2018.pdf
X-ALT-DESC;FMTTYPE=text/html:Easter Brunch at Lakeway Resort and Spa&#39\;s TR Restaurant Bar and Lounge Serving: breakfast buffet\, made to order omelets\, soups &amp\; salads\, carving station\, assorted fruit and vegetable displays\, hot dishes and dessert. All options listed below: https://www.lakewayresortandspa.com/resourcefiles/pdf/tr-easter-menu-2018.pdf
LOCATION:Lakeway Resort & Spa 101 Lakeway Dr\, Lakeway\, Texas 78734
UID:e.2123.9615
SEQUENCE:3
DTSTAMP:20260421T161933Z
URL:https://laketravischamberfest.com/events/details/lakeway-resort-and-spa-s-easter-brunch-2018-9615
END:VEVENT

END:VCALENDAR
