BEGIN:VCALENDAR
VERSION:2.0
PRODID:-//ChamberMaster//Event Calendar 2.0//EN
METHOD:PUBLISH
X-PUBLISHED-TTL:P3D
REFRESH-INTERVAL:P3D
CALSCALE:GREGORIAN
BEGIN:VEVENT
DTSTART:20181202T000000Z
DTEND:20181202T040000Z
X-MICROSOFT-CDO-ALLDAYEVENT:FALSE
SUMMARY:Lakeway Resort and Spa’s Brightest Boat Parade Viewing Party
DESCRIPTION:Lakeway Resort and Spa invites guests and community members to view Lake Travis' Brightest Boat Parade from the lake view terrace of Back Porch Bar\, with a reverse happy hour special to celebrate the occasion. On Saturday\, Dec. 1\, 2018 from 6 p.m. to 10 p.m.\, guests can enjoy the twinkling lights of the festive parade on Lake Travis\, while indulging in tasty snacks and drink specials\, including $4 draft beer\, $6 house wine and well liquor\, with hot wings\, fries and a chips and salsa bar offered for $15 per person. For more information please call (512) 261-6600.
X-ALT-DESC;FMTTYPE=text/html:Lakeway Resort and Spa invites guests and community members to view Lake Travis&rsquo\; Brightest Boat Parade from the lake view terrace of Back Porch Bar\, with a reverse happy hour special to celebrate the occasion. On Saturday\, Dec. 1\, 2018 from 6 p.m. to 10 p.m.\, guests can enjoy the twinkling lights of the festive parade on Lake Travis\, while indulging in tasty snacks and drink specials\, including $4 draft beer\, $6 house wine and well liquor\, with hot wings\, fries and a chips and salsa bar offered for $15 per person. For more information please call (512) 261-6600.
LOCATION:Lakeway Resort and Spa 101 Lakeway Dr\, Lakeway\, Texas 78734
UID:e.2123.9792
SEQUENCE:3
DTSTAMP:20260422T043240Z
URL:https://laketravischamberfest.com/events/details/lakeway-resort-and-spa-s-brightest-boat-parade-viewing-party-9792
END:VEVENT

END:VCALENDAR
