BEGIN:VCALENDAR
VERSION:2.0
PRODID:-//ChamberMaster//Event Calendar 2.0//EN
METHOD:PUBLISH
X-PUBLISHED-TTL:P3D
REFRESH-INTERVAL:P3D
CALSCALE:GREGORIAN
BEGIN:VEVENT
DTSTART:20230611T210000Z
DTEND:20230611T220000Z
X-MICROSOFT-CDO-ALLDAYEVENT:FALSE
SUMMARY:Lakeway PhotoFestival Awards Ceremony
DESCRIPTION:Celebrating its 21st year\, the Lakeway Photo Festival showcases both the unique beauty of our area and the amazing talents of our local photographers. For details on entering this year's event\, go to lakewayphotofest@gail.com. The Awards reception will be held Sunday June 11th at the Lakeway Activity Center from 4-5pm.
X-ALT-DESC;FMTTYPE=text/html:Celebrating its 21st year\, the Lakeway Photo Festival showcases both the unique beauty of our area and the amazing talents of our local photographers. For details on entering this year&#39\;s event\, go to lakewayphotofest@gail.com. The Awards reception will be held Sunday June 11th at the Lakeway Activity Center from 4-5pm.
LOCATION:Lakeway Activity Center
UID:e.2123.11731
SEQUENCE:3
DTSTAMP:20260423T040833Z
URL:https://laketravischamberfest.com/events/details/lakeway-photofestival-awards-ceremony-11731
END:VEVENT

END:VCALENDAR
