BEGIN:VCALENDAR
VERSION:2.0
PRODID:-//ChamberMaster//Event Calendar 2.0//EN
METHOD:PUBLISH
X-PUBLISHED-TTL:P3D
REFRESH-INTERVAL:P3D
CALSCALE:GREGORIAN
BEGIN:VEVENT
DTSTART;VALUE=DATE:20190211
DTEND;VALUE=DATE:20190226
TRANSP:TRANSPARENT
X-MICROSOFT-CDO-ALLDAYEVENT:TRUE
SUMMARY:Lakeway Parks & Recreation Survey
DESCRIPTION:The Lakeway Parks and Recreation online-only survey is now live and open to the public through Feb. 25 at: www.surveymonkey.com/r/lakewayparks Last fall\, the City of Lakeway launched its first survey in four years. Green space and gathering points were clearly of great importance to our community. In addition\, there were many comments about new programming\, amenities\, and extending hours at our facilities. Having been tasked with the creation of our master parks and recreation plan\, the Lakeway Parks and Recreation Committee is seeking further feedback on the city's specific parks\, trails\, activity center\, swim center\, and other recreational opportunities. Throughout the survey time\, the Lakeway Parks and Recreation Committee and Public Engagement Advisory Committee members will be at various public events and locations to promote the survey and help those who would like assistance in taking it online. Keep an eye out for them at Randalls Lakeway and the History of Tennis in Lakeway presentation at 7 p.m. Feb. 19 at the Lake Travis Community Library\, 1938 Lohmans Crossing. Thank you in advance for taking the time to help us mold the future of our parks.
X-ALT-DESC;FMTTYPE=text/html:The Lakeway Parks and Recreation online-only survey is now live and open to the public through Feb. 25 at: www.surveymonkey.com/r/lakewayparks Last fall\, the City of Lakeway launched its first survey in four years. Green space and gathering points were clearly of great importance to our community. In addition\, there were many comments about new programming\, amenities\, and extending hours at our facilities. Having been tasked with the creation of our master parks and recreation plan\, the Lakeway Parks and Recreation Committee is seeking further feedback on the city&rsquo\;s specific parks\, trails\, activity center\, swim center\, and other recreational opportunities. Throughout the survey time\, the Lakeway Parks and Recreation Committee and Public Engagement Advisory Committee members will be at various public events and locations to promote the survey and help those who would like assistance in taking it online. Keep an eye out for them at Randalls Lakeway and the History of Tennis in Lakeway presentation at 7 p.m. Feb. 19 at the Lake Travis Community Library\, 1938 Lohmans Crossing. Thank you in advance for taking the time to help us mold the future of our parks.
LOCATION:www.surveymonkey.com/r/lakewayparks
UID:e.2123.9835
SEQUENCE:3
DTSTAMP:20260422T085555Z
URL:https://laketravischamberfest.com/events/details/lakeway-parks-recreation-survey-9835
END:VEVENT

END:VCALENDAR
