BEGIN:VCALENDAR
VERSION:2.0
PRODID:-//ChamberMaster//Event Calendar 2.0//EN
METHOD:PUBLISH
X-PUBLISHED-TTL:P3D
REFRESH-INTERVAL:P3D
CALSCALE:GREGORIAN
BEGIN:VEVENT
DTSTART:20221203T000000Z
DTEND:20230102T060000Z
X-MICROSOFT-CDO-ALLDAYEVENT:FALSE
SUMMARY:Lakeway Holiday Trail of Lights
DESCRIPTION:One of Lakeway's most cherished traditions is the Trail of Lights!\n\n\n\nThe Lights On event marks the beginning of the holiday season in Lakeway with the first lighting of the Trail of Lights behind City Hall.\n\n \n- Open each night  6pm to Midnight\n\n- No charge\, self-guided
X-ALT-DESC;FMTTYPE=text/html:<span style="caret-color: rgb(77\, 81\, 86)\; font-family: arial\, sans-serif\; font-size: 14px\;">One of&nbsp\;</span><span style="font-weight: bold\; font-family: arial\, sans-serif\; font-size: 14px\;">Lakeway&#39\;s</span><span style="caret-color: rgb(77\, 81\, 86)\; font-family: arial\, sans-serif\; font-size: 14px\;">&nbsp\;most cherished traditions is the&nbsp\;</span><span style="font-weight: bold\; font-family: arial\, sans-serif\; font-size: 14px\;">Trail of Lights</span><span style="caret-color: rgb(77\, 81\, 86)\; font-family: arial\, sans-serif\; font-size: 14px\;">!</span><br />\n<br />\n<span style="caret-color: rgb(77\, 81\, 86)\; font-family: arial\, sans-serif\; font-size: 14px\;">The Lights On event marks the beginning of the&nbsp\;</span><span style="font-weight: bold\; font-family: arial\, sans-serif\; font-size: 14px\;">holiday</span><span style="caret-color: rgb(77\, 81\, 86)\; font-family: arial\, sans-serif\; font-size: 14px\;">&nbsp\;season in&nbsp\;</span><span style="font-weight: bold\; font-family: arial\, sans-serif\; font-size: 14px\;">Lakeway</span><span style="caret-color: rgb(77\, 81\, 86)\; font-family: arial\, sans-serif\; font-size: 14px\;">&nbsp\;with the first lighting of the&nbsp\;</span><span style="font-weight: bold\; font-family: arial\, sans-serif\; font-size: 14px\;">Trail of Lights</span><span style="caret-color: rgb(77\, 81\, 86)\; font-family: arial\, sans-serif\; font-size: 14px\;">&nbsp\;behind City Hall.</span><br />\n&nbsp\;\n<p style="margin: 0px\; font-stretch: normal\; line-height: normal\; font-family: Arial\; color: rgb(26\, 26\, 26)\; -webkit-text-stroke-width: initial\; -webkit-text-stroke-color: rgb(26\, 26\, 26)\;"><span style="font-kerning: none">- Open each night&nbsp\; 6pm to Midnight</span></p>\n\n<p style="margin: 0px\; font-stretch: normal\; line-height: normal\; font-family: Arial\; color: rgb(26\, 26\, 26)\; -webkit-text-stroke-width: initial\; -webkit-text-stroke-color: rgb(26\, 26\, 26)\;"><span style="font-kerning: none">- No charge\, self-guided</span></p>\n
LOCATION:Access from the Lakeway Activity Center\, 105 Cross Creek\, or behind City Hall
UID:e.2123.11538
SEQUENCE:3
DTSTAMP:20260423T113608Z
URL:https://laketravischamberfest.com/events/details/lakeway-holiday-trail-of-lights-11538
END:VEVENT

END:VCALENDAR
