BEGIN:VCALENDAR
VERSION:2.0
PRODID:-//ChamberMaster//Event Calendar 2.0//EN
METHOD:PUBLISH
X-PUBLISHED-TTL:P3D
REFRESH-INTERVAL:P3D
CALSCALE:GREGORIAN
BEGIN:VEVENT
DTSTART:20221122T000000Z
DTEND:20221122T020000Z
X-MICROSOFT-CDO-ALLDAYEVENT:FALSE
SUMMARY:Lakeway City Council Meeting
DESCRIPTION:Mayor Kilgore will proclaim Saturday\, November 26\, 2022 as Small Business Saturday. The Mayor will present the proclamation to Karen Shultz\, Executive Director of the Lake Travis Chamber.
X-ALT-DESC;FMTTYPE=text/html:<p style="margin: 0px\; font-stretch: normal\; line-height: normal\; font-family: Arial\; color: rgb(26\, 26\, 26)\; -webkit-text-stroke-width: initial\; -webkit-text-stroke-color: rgb(26\, 26\, 26)\;"><span style="font-kerning: none">Mayor Kilgore will proclaim Saturday\, November 26\, 2022 as Small Business Saturday. The Mayor will present the proclamation to Karen Shultz\, Executive Director of the Lake Travis Chamber.</span></p>\n
LOCATION:City Council Chambers
UID:e.2123.11536
SEQUENCE:3
DTSTAMP:20260423T141933Z
URL:https://laketravischamberfest.com/events/details/lakeway-city-council-meeting-11536
END:VEVENT

END:VCALENDAR
