BEGIN:VCALENDAR
VERSION:2.0
PRODID:-//ChamberMaster//Event Calendar 2.0//EN
METHOD:PUBLISH
X-PUBLISHED-TTL:P3D
REFRESH-INTERVAL:P3D
CALSCALE:GREGORIAN
BEGIN:VEVENT
DTSTART:20190623T153000Z
DTEND:20190623T170000Z
X-MICROSOFT-CDO-ALLDAYEVENT:FALSE
SUMMARY:Lakeway Church Breaks Ground on New Sanctuary
DESCRIPTION:On June 23 The Lakeway Church is having only two services\, both at 10:30 (one traditional in the current sanctuary and one contemporary in the Fellowship Hall). Only the first 20 minutes or so of these services will be in those locations. At that point\, everyone from both services will migrate to the site of the new sanctuary. Senior Pastor Larry Coulter\, will give a short talk\; we'll then have a ceremonial shoveling of dirt to break ground for the new building. Construction should begin by the end of June.
X-ALT-DESC;FMTTYPE=text/html:On June 23 The Lakeway Church is having only two services\, both at 10:30 (one traditional in the current sanctuary and one contemporary in the Fellowship Hall). Only the first 20 minutes or so of these services will be in those locations. At that point\, everyone from both services will migrate to the site of the new sanctuary. Senior Pastor Larry Coulter\, will give a short talk\; we&rsquo\;ll then have a ceremonial shoveling of dirt to break ground for the new building. Construction should begin by the end of June.
LOCATION:The Lakeway Church 2203 Lakeway Blvd. Lakeway\, TX 8934
UID:e.2123.9933
SEQUENCE:3
DTSTAMP:20260422T135054Z
URL:https://laketravischamberfest.com/events/details/lakeway-church-breaks-ground-on-new-sanctuary-9933
END:VEVENT

END:VCALENDAR
