BEGIN:VCALENDAR
VERSION:2.0
PRODID:-//ChamberMaster//Event Calendar 2.0//EN
METHOD:PUBLISH
X-PUBLISHED-TTL:P3D
REFRESH-INTERVAL:P3D
CALSCALE:GREGORIAN
BEGIN:VEVENT
DTSTART:20180412T000000Z
DTEND:20180412T010000Z
X-MICROSOFT-CDO-ALLDAYEVENT:FALSE
SUMMARY:Lake Travis Reads with Nate Blakeslee
DESCRIPTION:Now entering its eleventh year\, Lake Travis Reads 2018 will feature the new book by Nate Blakeslee\, "American Wolf: A True Story of Survival and Obsession in the West." The enthralling story of the rise and reign of O-Six\, the celebrated Yellowstone wolf\, and the people who loved or feared her. Erik Larson\, author of "The Devil in the White City\," stated that the book "is a startlingly intimate portrait of the intricate\, loving\, human-like interrelationships that govern wolves in the wild\, as observed in real time by a cadre of dedicated wolf-watchers in the end\, a drama of lupine love\, care\, and grief." Lake Travis Reads is a part of the "One Book\, One Community" program whose goal is to bring Lake Travis communities together through shared reading and discussion. Blakeslee will speak at an "Evening with the Author" on Wednesday\, April 11th at 7pm at the Bee Cave Public Library.
X-ALT-DESC;FMTTYPE=text/html:Now entering its eleventh year\, Lake Travis Reads 2018 will feature the new book by Nate Blakeslee\, &quot\;American Wolf: A True Story of Survival and Obsession in the West.&quot\; The enthralling story of the rise and reign of O-Six\, the celebrated Yellowstone wolf\, and the people who loved or feared her. Erik Larson\, author of &quot\;The Devil in the White City\,&quot\; stated that the book &ldquo\;is a startlingly intimate portrait of the intricate\, loving\, human-like interrelationships that govern wolves in the wild\, as observed in real time by a cadre of dedicated wolf-watchers&mdash\;in the end\, a drama of lupine love\, care\, and grief.&rdquo\; Lake Travis Reads is a part of the &quot\;One Book\, One Community&quot\; program whose goal is to bring Lake Travis communities together through shared reading and discussion. Blakeslee will speak at an &ldquo\;Evening with the Author&rdquo\; on Wednesday\, April 11th at 7pm at the Bee Cave Public Library.
LOCATION:Bee Cave Public Library 4000 Galleria Pkwy Bee Cave\, TX 78738
UID:e.2123.9537
SEQUENCE:3
DTSTAMP:20260421T162006Z
URL:https://laketravischamberfest.com/events/details/lake-travis-reads-with-nate-blakeslee-9537
END:VEVENT

END:VCALENDAR
