BEGIN:VCALENDAR
VERSION:2.0
PRODID:-//ChamberMaster//Event Calendar 2.0//EN
METHOD:PUBLISH
X-PUBLISHED-TTL:P3D
REFRESH-INTERVAL:P3D
CALSCALE:GREGORIAN
BEGIN:VEVENT
DTSTART:20200227T010000Z
DTEND:20200227T020000Z
X-MICROSOFT-CDO-ALLDAYEVENT:FALSE
SUMMARY:Lake Travis Reads “An Evening with Lara Prescott”
DESCRIPTION:Lake Travis Reads "An Evening with Lara Prescott" at Bee Cave Public Library - Wednesday\, February 26th at 7pm - The acclaimed Austin author will discuss her novel The Secrets We Kept which became an instant New York Times bestseller. Copies of the book will be available for purchase and signing at the event.
X-ALT-DESC;FMTTYPE=text/html:Lake Travis Reads &ldquo\;An Evening with Lara Prescott&rdquo\; at Bee Cave Public Library - Wednesday\, February 26th at 7pm - The acclaimed Austin author will discuss her novel The Secrets We Kept which became an instant New York Times bestseller. Copies of the book will be available for purchase and signing at the event.
LOCATION:Bee Cave Public Library 4000 Galleria Pkwy Bee Cave\, TX 78738
UID:e.2123.10060
SEQUENCE:3
DTSTAMP:20260423T020151Z
URL:https://laketravischamberfest.com/events/details/lake-travis-reads-an-evening-with-lara-prescott-10060
END:VEVENT

END:VCALENDAR
