BEGIN:VCALENDAR
VERSION:2.0
PRODID:-//ChamberMaster//Event Calendar 2.0//EN
METHOD:PUBLISH
X-PUBLISHED-TTL:P3D
REFRESH-INTERVAL:P3D
CALSCALE:GREGORIAN
BEGIN:VEVENT
DTSTART:20171207T180000Z
DTEND:20171207T203000Z
X-MICROSOFT-CDO-ALLDAYEVENT:FALSE
SUMMARY:Lake Travis Link Up Student Job Fair
DESCRIPTION:Lake Travis Link is proud to announce that we will be hosting our first official student job fair at LTHS on Thursday December 7th! Employers looking to fill open positions are urged to visit our website for more information on how to get involved.
X-ALT-DESC;FMTTYPE=text/html:Lake Travis Link is proud to announce that we will be hosting our first official student job fair at LTHS on Thursday December 7th! Employers looking to fill open positions are urged to visit our website for more information on how to get involved.
LOCATION:Lake Travis High School Main Cafeteria
UID:e.2123.9528
SEQUENCE:3
DTSTAMP:20260421T103046Z
URL:https://laketravischamberfest.com/events/details/lake-travis-link-up-student-job-fair-9528
END:VEVENT

END:VCALENDAR
