BEGIN:VCALENDAR
VERSION:2.0
PRODID:-//ChamberMaster//Event Calendar 2.0//EN
METHOD:PUBLISH
X-PUBLISHED-TTL:P3D
REFRESH-INTERVAL:P3D
CALSCALE:GREGORIAN
BEGIN:VEVENT
DTSTART:20190913T170000Z
DTEND:20190915T170000Z
X-MICROSOFT-CDO-ALLDAYEVENT:FALSE
SUMMARY:Lake Travis In the Water Boat Show
DESCRIPTION:The Lake Travis in the Water Boat Show is going to be at Hurst Harbor Marina Sept 13-15. All local boat dealers will be there with end of season deals on new and brokerage boats! Live music and Food trucks will be onsite as well.
X-ALT-DESC;FMTTYPE=text/html:The Lake Travis in the Water Boat Show is going to be at Hurst Harbor Marina Sept 13-15. All local boat dealers will be there with end of season deals on new and brokerage boats! Live music and Food trucks will be onsite as well.
LOCATION:Hurst Harbor Marina
UID:e.2123.9964
SEQUENCE:3
DTSTAMP:20260422T194942Z
URL:https://laketravischamberfest.com/events/details/lake-travis-in-the-water-boat-show-09-13-2019-9964
END:VEVENT

END:VCALENDAR
