BEGIN:VCALENDAR
VERSION:2.0
PRODID:-//ChamberMaster//Event Calendar 2.0//EN
METHOD:PUBLISH
X-PUBLISHED-TTL:P3D
REFRESH-INTERVAL:P3D
CALSCALE:GREGORIAN
BEGIN:VEVENT
DTSTART;VALUE=DATE:20200501
DTEND;VALUE=DATE:20200502
TRANSP:TRANSPARENT
X-MICROSOFT-CDO-ALLDAYEVENT:TRUE
SUMMARY:Lake Travis Fire Fighters Benevolent Golf Tournament
DESCRIPTION:We're looking for sponsors for our May 1st Benevolent Golf Tournament supporting the Lake Travis Fire Fighters Benevolent Fund with 50% of sponsorship profits going to the CAVLounge at Lake Travis High School.\n\n\n\nSign up today! Online HERE \n\nOr contact Wes Laurel (512) 965-1172
X-ALT-DESC;FMTTYPE=text/html:<span style="color: rgb(34\, 34\, 34)\; font-family: Arial\, Helvetica\, sans-serif\; font-size: 12px\; background-color: rgb(255\, 255\, 255)\;"><span style="font-size:16px\;"><strong>We&rsquo\;re looking for sponsors for our May 1st Benevolent Golf Tournament supporting the Lake Travis Fire Fighters Benevolent Fund with 50% of sponsorship profits going to the CAVLounge at Lake Travis High School.</strong></span><br />\n<br />\n<span style="font-size:16px\;"><strong>Sign up today! Online</strong> </span></span><span style="font-size:16px\;"><span style="font-family: Arial\, Helvetica\, sans-serif\; background-color: rgb(255\, 255\, 255)\;"><em><strong><a href="http://www.iaff4117.org/golf2020"><span style="color:#FF0000\;">HERE</span></a>&nbsp\;</strong></em></span></span><br />\n<span style="font-size:16px\;"><strong>Or contact Wes Laurel (512) 965-1172</strong></span><br />\n<br />\n&nbsp\;
LOCATION:Falconhead Golf Course
UID:e.2123.10071
SEQUENCE:3
DTSTAMP:20260423T055837Z
URL:https://laketravischamberfest.com/events/details/lake-travis-fire-fighters-benevolent-golf-tournament-10071
END:VEVENT

END:VCALENDAR
