BEGIN:VCALENDAR
VERSION:2.0
PRODID:-//ChamberMaster//Event Calendar 2.0//EN
METHOD:PUBLISH
X-PUBLISHED-TTL:P3D
REFRESH-INTERVAL:P3D
CALSCALE:GREGORIAN
BEGIN:VEVENT
DTSTART:20191108T003000Z
DTEND:20191108T023000Z
X-MICROSOFT-CDO-ALLDAYEVENT:FALSE
SUMMARY:Lake Travis Film Festival Theme Reveal Party
DESCRIPTION:Lake Travis Film Festival Theme Reveal Party - Thursday\, November 7th from 6:30pm to 8:30pm - Enjoy refreshments and photo opportunities as the Lake Travis Film Festival unveils their 2020 theme! This event will feature special behind-the-scenes videos and a chance to ask questions about the upcoming festival.
X-ALT-DESC;FMTTYPE=text/html:Lake Travis Film Festival Theme Reveal Party - Thursday\, November 7th from 6:30pm to 8:30pm - Enjoy refreshments and photo opportunities as the Lake Travis Film Festival unveils their 2020 theme! This event will feature special behind-the-scenes videos and a chance to ask questions about the upcoming festival.
LOCATION:Lake Travis Community Library 1938 Lohmans Crossing Austin\, TX 78734
UID:e.2123.10012
SEQUENCE:3
DTSTAMP:20260424T085843Z
URL:https://laketravischamberfest.com/events/details/lake-travis-film-festival-theme-reveal-party-10012
END:VEVENT

END:VCALENDAR
