BEGIN:VCALENDAR
VERSION:2.0
PRODID:-//ChamberMaster//Event Calendar 2.0//EN
METHOD:PUBLISH
X-PUBLISHED-TTL:P3D
REFRESH-INTERVAL:P3D
CALSCALE:GREGORIAN
BEGIN:VEVENT
DTSTART:20180406T213000Z
DTEND:20180406T223000Z
X-MICROSOFT-CDO-ALLDAYEVENT:FALSE
SUMMARY:Lake Travis Fiddlers
DESCRIPTION:Lake Travis Fiddlers - Friday\, April 6th at 4:30pm - Lake Travis Fiddlers will entertain with violinists\, guitarists\, mandolin and horn players\, and more!
X-ALT-DESC;FMTTYPE=text/html:Lake Travis Fiddlers - Friday\, April 6th at 4:30pm - Lake Travis Fiddlers will entertain with violinists\, guitarists\, mandolin and horn players\, and more!
LOCATION:Lake Travis Community Library 1938 Lohmans Crossing Austin\, Texas 78734
UID:e.2123.9592
SEQUENCE:3
DTSTAMP:20260421T175754Z
URL:https://laketravischamberfest.com/events/details/lake-travis-fiddlers-9592
END:VEVENT

END:VCALENDAR
