BEGIN:VCALENDAR
VERSION:2.0
PRODID:-//ChamberMaster//Event Calendar 2.0//EN
METHOD:PUBLISH
X-PUBLISHED-TTL:P3D
REFRESH-INTERVAL:P3D
CALSCALE:GREGORIAN
BEGIN:VEVENT
DTSTART:20181207T230000Z
DTEND:20181208T000000Z
X-MICROSOFT-CDO-ALLDAYEVENT:FALSE
SUMMARY:Lake Travis Fiddlers
DESCRIPTION:Lake Travis Fiddlers - Friday\, December 7th at 5pm - Lake Travis Fiddlers will entertain with violinists\, guitarists\, mandolin and horn players\, and more!
X-ALT-DESC;FMTTYPE=text/html:Lake Travis Fiddlers - Friday\, December 7th at 5pm - Lake Travis Fiddlers will entertain with violinists\, guitarists\, mandolin and horn players\, and more!
LOCATION:Lake Travis Community Library 1938 Lohmans Crossing Austin\, Texas 78734
UID:e.2123.9779
SEQUENCE:3
DTSTAMP:20260422T055230Z
URL:https://laketravischamberfest.com/events/details/lake-travis-fiddlers-12-07-2018-9779
END:VEVENT

END:VCALENDAR
