BEGIN:VCALENDAR
VERSION:2.0
PRODID:-//ChamberMaster//Event Calendar 2.0//EN
METHOD:PUBLISH
X-PUBLISHED-TTL:P3D
REFRESH-INTERVAL:P3D
CALSCALE:GREGORIAN
BEGIN:VEVENT
DTSTART:20190928T150000Z
DTEND:20190928T210000Z
X-MICROSOFT-CDO-ALLDAYEVENT:FALSE
SUMMARY:Lake Travis Community Library Book Sale
DESCRIPTION:Friends of the Library Book Sale - Saturday\, September 28th from 10am to 4pm - Purchase an entire bag of books for just $10 from Nancy's Nook!
X-ALT-DESC;FMTTYPE=text/html:Friends of the Library Book Sale - Saturday\, September 28th from 10am to 4pm - Purchase an entire bag of books for just $10 from Nancy&rsquo\;s Nook!
LOCATION:Lake Travis Community Library 1938 Lohmans Crossing Austin\, Texas 78734
UID:e.2123.9971
SEQUENCE:3
DTSTAMP:20260422T181150Z
URL:https://laketravischamberfest.com/events/details/lake-travis-community-library-book-sale-9971
END:VEVENT

END:VCALENDAR
