BEGIN:VCALENDAR
VERSION:2.0
PRODID:-//ChamberMaster//Event Calendar 2.0//EN
METHOD:PUBLISH
X-PUBLISHED-TTL:P3D
REFRESH-INTERVAL:P3D
CALSCALE:GREGORIAN
BEGIN:VEVENT
DTSTART:20231021T140000Z
DTEND:20231021T170000Z
X-MICROSOFT-CDO-ALLDAYEVENT:FALSE
SUMMARY:Lake Travis Children's Business Fair
DESCRIPTION:Observe the opportunity for children to launch their very own startup business!\n\n \n\nKids develop a brand\, create a product or service\, build a marketing strategy\, and then open for customers at our one-day marketplace. \n\n \n\nWe will host 30 booths at the 3rd annual event this year at the Rough Hollow Welcome Center on October 21st from 9 am   12 pm. Sign up for young entrepreneurs: https://www.childrensbusinessfair.org/laketravis-acton \n\n\n\nFacebook Event: https://www.facebook.com/events/7039142276105667\n\n \n\nThis event is sponsored by Acton Academy\, the Acton School of Business\, Lake Travis Christian Academy\, and the generous support of our donors and volunteers.  We all believe that principled entrepreneurs are heroes and role models for the next generation.\n\n \n\nWhether an entrepreneur is famous like Elon Musk or Oprah Winfrey or they are one of the thousands of unsung business owners across this country\, these are the people who make sacrifices to innovate\, create jobs and serve their communities.
X-ALT-DESC;FMTTYPE=text/html:<div>Observe the opportunity for children to launch their very own startup business!</div>\n\n<div>&nbsp\;</div>\n\n<div>Kids develop a brand\, create a product or service\, build a marketing strategy\, and then open for customers at our one-day marketplace.&nbsp\;</div>\n\n<div>&nbsp\;</div>\n\n<div>We will host 30 booths at the 3rd annual event this year at the Rough Hollow Welcome Center on October 21st from 9 am &ndash\; 12 pm. Sign up for young entrepreneurs:&nbsp\;https://www.childrensbusinessfair.org/laketravis-acton&nbsp\;</div>\n\n<div><br />\nFacebook Event:&nbsp\;https://www.facebook.com/events/7039142276105667<br />\n&nbsp\;</div>\n\n<div>This event is sponsored by Acton Academy\, the Acton School of Business\, Lake Travis Christian Academy\, and the generous support of our donors and volunteers.&nbsp\; We all believe that principled entrepreneurs are heroes and role models for the next generation.</div>\n\n<div>&nbsp\;</div>\n\n<div>Whether an entrepreneur is famous like Elon Musk or Oprah Winfrey or they are one of the thousands of unsung business owners across this country\, these are the people who make sacrifices to innovate\, create jobs and serve their communities.</div>\n
LOCATION:The Rough Hollow Community Center 903 Highlands Blvd\, Austin\, TX 78738-6173\, United States
UID:e.2123.11786
SEQUENCE:3
DTSTAMP:20260422T222909Z
URL:https://laketravischamberfest.com/events/details/lake-travis-children-s-business-fair-11786
END:VEVENT

END:VCALENDAR
