BEGIN:VCALENDAR
VERSION:2.0
PRODID:-//ChamberMaster//Event Calendar 2.0//EN
METHOD:PUBLISH
X-PUBLISHED-TTL:P3D
REFRESH-INTERVAL:P3D
CALSCALE:GREGORIAN
BEGIN:VEVENT
DTSTART:20240404T150000Z
DTEND:20240404T160000Z
X-MICROSOFT-CDO-ALLDAYEVENT:FALSE
SUMMARY:Lake Travis Chamber Executive Committee Meeting
DESCRIPTION:
X-ALT-DESC;FMTTYPE=text/html:
LOCATION:
UID:e.2123.12225
SEQUENCE:3
DTSTAMP:20260422T133347Z
URL:https://laketravischamberfest.com/events/details/lake-travis-chamber-executive-committee-meeting-04-03-2024-12225
END:VEVENT

END:VCALENDAR
