BEGIN:VCALENDAR
VERSION:2.0
PRODID:-//ChamberMaster//Event Calendar 2.0//EN
METHOD:PUBLISH
X-PUBLISHED-TTL:P3D
REFRESH-INTERVAL:P3D
CALSCALE:GREGORIAN
BEGIN:VEVENT
DTSTART:20231011T163000Z
DTEND:20231011T180000Z
X-MICROSOFT-CDO-ALLDAYEVENT:FALSE
SUMMARY:Lake Travis Chamber Board of Directors Meeting
DESCRIPTION:Lake Travis Chamber Board of Directors Meeting \n\n\n\nEvent Description: Monthly meeting  of the Lake Travis Chamber Board of Directors\n\nDate: 2nd Wednesday of every month\n\nTime: 11:30 AM to 1:00 PM \n\n\n\n*This is a board member ONLY meeting
X-ALT-DESC;FMTTYPE=text/html:<p -webkit-text-stroke-color:="" -webkit-text-stroke-width:="" color:="" new="" style="margin: 0px\; font-stretch: normal\; font-size: 12px\; line-height: normal\; font-family: " times=""><span style="font-kerning: none">Lake Travis Chamber Board of Directors Meeting&nbsp\;</span><br />\n<br />\n<span -webkit-text-stroke-color:="" font-size:="" new="" style="caret-color: rgb(0\, 0\, 0)\; color: rgb(0\, 0\, 0)\; font-family: " times="">Event Description:&nbsp\;</span><span -webkit-text-stroke-color:="" font-size:="" new="" style="caret-color: rgb(0\, 0\, 0)\; color: rgb(0\, 0\, 0)\; font-family: " times="">Monthly meeting&nbsp\; of the Lake Travis Chamber Board of Directors</span></p>\n\n<p -webkit-text-stroke-color:="" -webkit-text-stroke-width:="" color:="" new="" style="margin: 0px\; font-stretch: normal\; font-size: 12px\; line-height: normal\; font-family: " times=""><span style="font-kerning: none">Date: 2</span><span style="font-stretch: normal\; font-size: 8px\; line-height: normal\; -webkit-font-kerning: none\;"><sup>nd</sup></span><span style="font-kerning: none"> Wednesday of every month</span></p>\n\n<p -webkit-text-stroke-color:="" -webkit-text-stroke-width:="" color:="" new="" style="margin: 0px\; font-stretch: normal\; font-size: 12px\; line-height: normal\; font-family: " times=""><span style="font-kerning: none">Time: 11:30 AM to 1:00 PM&nbsp\;<br />\n<br />\n*This is a board member ONLY meeting</span></p>\n\n<p -webkit-text-stroke-color:="" -webkit-text-stroke-width:="" color:="" new="" style="margin: 0px\; font-stretch: normal\; font-size: 12px\; line-height: normal\; font-family: " times="">&nbsp\;</p>\n
LOCATION:Fuse Workspace: 14425 Falcon Head Blvd BUILDING E\, Suite 100\, Austin\, TX 78738
UID:e.2123.11180
SEQUENCE:3
DTSTAMP:20260422T223227Z
URL:https://laketravischamberfest.com/events/details/lake-travis-chamber-board-of-directors-meeting-10-14-2023-11180
END:VEVENT

END:VCALENDAR
