BEGIN:VCALENDAR
VERSION:2.0
PRODID:-//ChamberMaster//Event Calendar 2.0//EN
METHOD:PUBLISH
X-PUBLISHED-TTL:P3D
REFRESH-INTERVAL:P3D
CALSCALE:GREGORIAN
BEGIN:VEVENT
DTSTART:20330914T160000Z
DTEND:20330914T180000Z
X-MICROSOFT-CDO-ALLDAYEVENT:FALSE
SUMMARY:Lake Travis Chamber Board Meeting
DESCRIPTION:
X-ALT-DESC;FMTTYPE=text/html:
LOCATION:
UID:e.2123.12205
SEQUENCE:3
DTSTAMP:20260422T222909Z
URL:https://laketravischamberfest.com/events/details/lake-travis-chamber-board-meeting-09-14-2033-12205
END:VEVENT

END:VCALENDAR
