BEGIN:VCALENDAR
VERSION:2.0
PRODID:-//ChamberMaster//Event Calendar 2.0//EN
METHOD:PUBLISH
X-PUBLISHED-TTL:P3D
REFRESH-INTERVAL:P3D
CALSCALE:GREGORIAN
BEGIN:VEVENT
DTSTART:20340913T160000Z
DTEND:20340913T180000Z
X-MICROSOFT-CDO-ALLDAYEVENT:FALSE
SUMMARY:Lake Travis Chamber Board Meeting
DESCRIPTION:
X-ALT-DESC;FMTTYPE=text/html:
LOCATION:
UID:e.2123.12217
SEQUENCE:3
DTSTAMP:20260422T024704Z
URL:https://laketravischamberfest.com/events/details/lake-travis-chamber-board-meeting-09-13-2034-12217
END:VEVENT

END:VCALENDAR
