BEGIN:VCALENDAR
VERSION:2.0
PRODID:-//ChamberMaster//Event Calendar 2.0//EN
METHOD:PUBLISH
X-PUBLISHED-TTL:P3D
REFRESH-INTERVAL:P3D
CALSCALE:GREGORIAN
BEGIN:VEVENT
DTSTART:20270714T160000Z
DTEND:20270714T180000Z
X-MICROSOFT-CDO-ALLDAYEVENT:FALSE
SUMMARY:Lake Travis Chamber Board Meeting
DESCRIPTION:
X-ALT-DESC;FMTTYPE=text/html:
LOCATION:
UID:e.2123.12131
SEQUENCE:3
DTSTAMP:20260420T125745Z
URL:https://laketravischamberfest.com/events/details/lake-travis-chamber-board-meeting-07-14-2027-12131
END:VEVENT

END:VCALENDAR
