BEGIN:VCALENDAR
VERSION:2.0
PRODID:-//ChamberMaster//Event Calendar 2.0//EN
METHOD:PUBLISH
X-PUBLISHED-TTL:P3D
REFRESH-INTERVAL:P3D
CALSCALE:GREGORIAN
BEGIN:VEVENT
DTSTART:20280308T170000Z
DTEND:20280308T190000Z
X-MICROSOFT-CDO-ALLDAYEVENT:FALSE
SUMMARY:Lake Travis Chamber Board Meeting
DESCRIPTION:
X-ALT-DESC;FMTTYPE=text/html:
LOCATION:
UID:e.2123.12139
SEQUENCE:3
DTSTAMP:20260421T024410Z
URL:https://laketravischamberfest.com/events/details/lake-travis-chamber-board-meeting-03-08-2028-12139
END:VEVENT

END:VCALENDAR
