BEGIN:VCALENDAR
VERSION:2.0
PRODID:-//ChamberMaster//Event Calendar 2.0//EN
METHOD:PUBLISH
X-PUBLISHED-TTL:P3D
REFRESH-INTERVAL:P3D
CALSCALE:GREGORIAN
BEGIN:VEVENT
DTSTART:20211109T160000Z
DTEND:20211110T000000Z
X-MICROSOFT-CDO-ALLDAYEVENT:FALSE
SUMMARY:Ladies of Charity Lake Travis Thrift Shop
DESCRIPTION:Christmas Sale is an event NOT to be missed!!! EVERYTHING CHRISTMAS!!! (WE ARE SENDING OUR AD)
X-ALT-DESC;FMTTYPE=text/html:Christmas Sale is an event NOT to be missed!!! EVERYTHING CHRISTMAS!!! (WE ARE SENDING OUR AD)
LOCATION:440 Medical Parkway Lakeway Texas 78738
UID:e.2123.10927
SEQUENCE:3
DTSTAMP:20260424T072138Z
URL:https://laketravischamberfest.com/events/details/ladies-of-charity-lake-travis-thrift-shop-10927
END:VEVENT

END:VCALENDAR
