BEGIN:VCALENDAR
VERSION:2.0
PRODID:-//ChamberMaster//Event Calendar 2.0//EN
METHOD:PUBLISH
X-PUBLISHED-TTL:P3D
REFRESH-INTERVAL:P3D
CALSCALE:GREGORIAN
BEGIN:VEVENT
DTSTART:20180918T163000Z
DTEND:20180918T173000Z
X-MICROSOFT-CDO-ALLDAYEVENT:FALSE
SUMMARY:Know the 10 Signs: Alzheimer's Early Detection Workshop
DESCRIPTION:BELMONT VILLAGE SENIOR LIVING 107 BELLA MONTAGNA CIRCLE LAKEWAY\, TEXAS 78734 TUESDAY   SEPTEMBER 18\, 2018 11:30 AM - 12:30 PM EARLY DETECTION MATTERS A WORKSHOP PRESENTED BY THE ALZHEIMER'S ASSOCIATION  2018 Belmont Village\, L.P. | License Pending | belmontvillage.com/lakeway LAKEWAY If you or someone you know is experiencing memory loss or behavioral changes\, it's time to learn the facts. Early detection of Alzheimer's disease gives you a chance to begin drug therapy\, enroll in clinical studies and plan for the future. This interactive workshop features video clips of people with Alzheimer's disease. Lunch will be provided. RSVP to the concierge at 512-402-1800
X-ALT-DESC;FMTTYPE=text/html:BELMONT VILLAGE SENIOR LIVING 107 BELLA MONTAGNA CIRCLE LAKEWAY\, TEXAS 78734 TUESDAY &bull\; SEPTEMBER 18\, 2018 11:30 AM - 12:30 PM EARLY DETECTION MATTERS A WORKSHOP PRESENTED BY THE ALZHEIMER&rsquo\;S ASSOCIATION &copy\;2018 Belmont Village\, L.P. | License Pending | belmontvillage.com/lakeway LAKEWAY If you or someone you know is experiencing memory loss or behavioral changes\, it&rsquo\;s time to learn the facts. Early detection of Alzheimer&rsquo\;s disease gives you a chance to begin drug therapy\, enroll in clinical studies and plan for the future. This interactive workshop features video clips of people with Alzheimer&rsquo\;s disease. Lunch will be provided. RSVP to the concierge at 512-402-1800
LOCATION:Belmont Village Senior Living - Lakeway
UID:e.2123.9707
SEQUENCE:3
DTSTAMP:20260421T233231Z
URL:https://laketravischamberfest.com/events/details/know-the-10-signs-alzheimer-s-early-detection-workshop-9707
END:VEVENT

END:VCALENDAR
