BEGIN:VCALENDAR
VERSION:2.0
PRODID:-//ChamberMaster//Event Calendar 2.0//EN
METHOD:PUBLISH
X-PUBLISHED-TTL:P3D
REFRESH-INTERVAL:P3D
CALSCALE:GREGORIAN
BEGIN:VEVENT
DTSTART:20191016T160000Z
DTEND:20191016T180000Z
X-MICROSOFT-CDO-ALLDAYEVENT:FALSE
SUMMARY:Knife Skills 101
DESCRIPTION:Become comfortable and skilled with the most important cooking tool\, the chef knife! Good knife skills makes cooking more fun and efficient. Refine basic knife skills with Chef Rachel Zierzow\, a natural foods chef\, culinary instructor\, and holistic health coach. Practice the fundamental cuts for vegetables mince\, dice\, half moons\, matchsticks\, chiffonade\, and more. Learn how to select a knife that is right for you\, and tips for keeping your knives sharp. Enjoy a delicious Proven al Vegetable Soup with Basil Pesto made with the vegetables you prepare. Students should bring their own chef knife to use in class.
X-ALT-DESC;FMTTYPE=text/html:Become comfortable and skilled with the most important cooking tool\, the chef knife! Good knife skills makes cooking more fun and efficient. Refine basic knife skills with Chef Rachel Zierzow\, a natural foods chef\, culinary instructor\, and holistic health coach. Practice the fundamental cuts for vegetables&mdash\;mince\, dice\, half moons\, matchsticks\, chiffonade\, and more. Learn how to select a knife that is right for you\, and tips for keeping your knives sharp. Enjoy a delicious Proven&ccedil\;al Vegetable Soup with Basil Pesto made with the vegetables you prepare. Students should bring their own chef knife to use in class.
LOCATION:Con' Olio Oils and Vinegars\, 3500 Ranch Road 620 S\, Bee Cave\, TX 78738
UID:e.2123.10006
SEQUENCE:3
DTSTAMP:20260422T194620Z
URL:https://laketravischamberfest.com/events/details/knife-skills-101-10006
END:VEVENT

END:VCALENDAR
