BEGIN:VCALENDAR
VERSION:2.0
PRODID:-//ChamberMaster//Event Calendar 2.0//EN
METHOD:PUBLISH
X-PUBLISHED-TTL:P3D
REFRESH-INTERVAL:P3D
CALSCALE:GREGORIAN
BEGIN:VEVENT
DTSTART:20180616T170000Z
DTEND:20180616T210000Z
X-MICROSOFT-CDO-ALLDAYEVENT:FALSE
SUMMARY:KINDNESSPALOOZA
DESCRIPTION:Join The Kindness Campaign and Hill Country Galleria as they put Kindness in the Community. Watch live performances featuring The Mrs and a rock star line up of local musicians. The Mrs is on a mission to change the way women see themselves through their music. Their songs inspire the knowing in each woman that she is enough. Experience Enoughie's Magic Mirror ! Come partake in giveaways and Kindness inspired games for the whole family! Join the Kindness Revolution as we make Bee Cave a kinder place. One Heart At A Time!
X-ALT-DESC;FMTTYPE=text/html:Join The Kindness Campaign and Hill Country Galleria as they put Kindness in the Community. Watch live performances featuring The Mrs and a rock star line up of local musicians. The Mrs is on a mission to change the way women see themselves through their music. Their songs inspire the knowing in each woman that she is enough. Experience Enoughie&#39\;s Magic Mirror&trade\;! Come partake in giveaways and Kindness inspired games for the whole family! Join the Kindness Revolution as we make Bee Cave a kinder place. One Heart At A Time!
LOCATION:Hill Country Galleria
UID:e.2123.9665
SEQUENCE:3
DTSTAMP:20260421T205826Z
URL:https://laketravischamberfest.com/events/details/kindnesspalooza-06-16-2018-9665
END:VEVENT

END:VCALENDAR
