BEGIN:VCALENDAR
VERSION:2.0
PRODID:-//ChamberMaster//Event Calendar 2.0//EN
METHOD:PUBLISH
X-PUBLISHED-TTL:P3D
REFRESH-INTERVAL:P3D
CALSCALE:GREGORIAN
BEGIN:VEVENT
DTSTART:20190120T010000Z
DTEND:20190120T033000Z
X-MICROSOFT-CDO-ALLDAYEVENT:FALSE
SUMMARY:Kimmie Rhodes Performs at Spicewood
DESCRIPTION:Kimmie Rhodes' poetic songwriting has spoken to the souls of millions of folks since she began her career in the '70's. Poet\, crystal-voiced songstress\, Willie Nelson duet partner\, and "Outlaw Sweetheart\," she has released 16 solo albums\, written and produced three musical plays\, and published a novella/cookbook. Artists like Emmylou Harris and Waylon Jennings have performed her multi-platinum songs. Hear one of the most original\, compelling voices of our time.
X-ALT-DESC;FMTTYPE=text/html:Kimmie Rhodes&rsquo\; poetic songwriting has spoken to the souls of millions of folks since she began her career in the &lsquo\;70&rsquo\;s. Poet\, crystal-voiced songstress\, Willie Nelson duet partner\, and &ldquo\;Outlaw Sweetheart\,&rdquo\; she has released 16 solo albums\, written and produced three musical plays\, and published a novella/cookbook. Artists like Emmylou Harris and Waylon Jennings have performed her multi-platinum songs. Hear one of the most original\, compelling voices of our time.
LOCATION:Spicewood Vineyards Event Center 1419 Co. Rd. 409\, Spicewood 78669
UID:e.2123.9811
SEQUENCE:3
DTSTAMP:20260422T055738Z
URL:https://laketravischamberfest.com/events/details/kimmie-rhodes-performs-at-spicewood-9811
END:VEVENT

END:VCALENDAR
