BEGIN:VCALENDAR
VERSION:2.0
PRODID:-//ChamberMaster//Event Calendar 2.0//EN
METHOD:PUBLISH
X-PUBLISHED-TTL:P3D
REFRESH-INTERVAL:P3D
CALSCALE:GREGORIAN
BEGIN:VEVENT
DTSTART:20190701T140000Z
DTEND:20190703T210000Z
X-MICROSOFT-CDO-ALLDAYEVENT:FALSE
SUMMARY:Kids Culinary Camp
DESCRIPTION:Foster independence and encourage creativity and confidence in the kitchen with a class that focuses on your budding chef! Young chefs will use those new culinary skills right away and create delicious snacks\, meals and desserts with recipes and reviews printed for each day of cooking including a section on Food Safety Tips. Disclaimer: We love all kiddos! If your child has a disability or special need\, please contact us before signing up so we can discuss if a specific camp is the right place for your child. Maximum class size is 10 kids Cancellations: Camp may be cancelled up to 1 week prior to camp start date to receive a full refund. If cancelled within 1 week then we cannot issue a refund.
X-ALT-DESC;FMTTYPE=text/html:Foster independence and encourage creativity and confidence in the kitchen with a class that focuses on your budding chef! Young chefs will use those new culinary skills right away and create delicious snacks\, meals and desserts with recipes and reviews printed for each day of cooking including a section on Food Safety Tips. Disclaimer: We love all kiddos! If your child has a disability or special need\, please contact us before signing up so we can discuss if a specific camp is the right place for your child. Maximum class size is 10 kids Cancellations: Camp may be cancelled up to 1 week prior to camp start date to receive a full refund. If cancelled within 1 week then we cannot issue a refund.
LOCATION:3500 Ranch Road 620 S\, Ste F-400
UID:e.2123.9922
SEQUENCE:3
DTSTAMP:20260422T152756Z
URL:https://laketravischamberfest.com/events/details/kids-culinary-camp-07-01-2019-9922
END:VEVENT

END:VCALENDAR
