BEGIN:VCALENDAR
VERSION:2.0
PRODID:-//ChamberMaster//Event Calendar 2.0//EN
METHOD:PUBLISH
X-PUBLISHED-TTL:P3D
REFRESH-INTERVAL:P3D
CALSCALE:GREGORIAN
BEGIN:VEVENT
DTSTART:20181227T190000Z
DTEND:20181227T200000Z
X-MICROSOFT-CDO-ALLDAYEVENT:FALSE
SUMMARY:Kid's Karaoke
DESCRIPTION:Kid's Karaoke - Thursday\, December 27th at 1pm - Sing away your post-holiday blues at this family-friendly event in our library meeting room! We'll sing along to kid-friendly karaoke YouTube videos on the big screen!
X-ALT-DESC;FMTTYPE=text/html:Kid&rsquo\;s Karaoke - Thursday\, December 27th at 1pm - Sing away your post-holiday blues at this family-friendly event in our library meeting room! We&rsquo\;ll sing along to kid-friendly karaoke YouTube videos on the big screen!
LOCATION:Lake Travis Community Library 1938 Lohmans Crossing Austin\, Texas 78734
UID:e.2123.9778
SEQUENCE:3
DTSTAMP:20260422T042738Z
URL:https://laketravischamberfest.com/events/details/kid-s-karaoke-9778
END:VEVENT

END:VCALENDAR
