BEGIN:VCALENDAR
VERSION:2.0
PRODID:-//ChamberMaster//Event Calendar 2.0//EN
METHOD:PUBLISH
X-PUBLISHED-TTL:P3D
REFRESH-INTERVAL:P3D
CALSCALE:GREGORIAN
BEGIN:VEVENT
DTSTART:20220218T230000Z
DTEND:20220219T010000Z
X-MICROSOFT-CDO-ALLDAYEVENT:FALSE
SUMMARY:Kick-Off Reception – Special Olympics
DESCRIPTION:After two years of suspending activities at Special Olympics\, we are thrilled to announce that the Special Olympics are coming to the Lake Travis and have invited Lake Travis Chamber and members to celebrate with at their kick-off reception! Register Here
X-ALT-DESC;FMTTYPE=text/html:<span style="font-size:14px\;"><span id="docs-internal-guid-638c7708-7fff-344a-7eda-9c48358b5e2b"><span style="color: rgb(34\, 34\, 34)\; background-color: transparent\; font-variant-numeric: normal\; font-variant-east-asian: normal\; vertical-align: baseline\; white-space: pre-wrap\;">After&nbsp\;two&nbsp\;years&nbsp\;of suspending activities at Special Olympics\, we are thrilled to announce that the Special Olympics are coming to the Lake Travis and have invited Lake Travis Chamber and members to celebrate with at their kick-off reception! </span><a href="https://givebutter.com/WGReception" style="text-decoration-line: none\;"><span style="color: rgb(13\, 140\, 204)\; background-color: transparent\; font-variant-numeric: normal\; font-variant-east-asian: normal\; text-decoration-line: underline\; text-decoration-skip-ink: none\; vertical-align: baseline\; white-space: pre-wrap\;">Register Here</span></a></span></span>
LOCATION:Lakeway Resort and Spa 101 Lakeway Drive\, Austin\, TX 78734
UID:e.2123.11074
SEQUENCE:3
DTSTAMP:20260424T030741Z
URL:https://laketravischamberfest.com/events/details/kick-off-reception-special-olympics-11074
END:VEVENT

END:VCALENDAR
